BEGIN:VCALENDAR
VERSION:2.0
PRODID:-//The Island School - ECPv6.15.20//NONSGML v1.0//EN
CALSCALE:GREGORIAN
METHOD:PUBLISH
X-ORIGINAL-URL:https://islandschoolbocagrande.com
X-WR-CALDESC:Events for The Island School
REFRESH-INTERVAL;VALUE=DURATION:PT1H
X-Robots-Tag:noindex
X-PUBLISHED-TTL:PT1H
BEGIN:VTIMEZONE
TZID:UTC
BEGIN:STANDARD
TZOFFSETFROM:+0000
TZOFFSETTO:+0000
TZNAME:UTC
DTSTART:20240101T000000
END:STANDARD
END:VTIMEZONE
BEGIN:VEVENT
DTSTART;TZID=UTC:20251015T074500
DTEND;TZID=UTC:20251015T081500
DTSTAMP:20260425T225538
CREATED:20180822T163031Z
LAST-MODIFIED:20250708T160258Z
UID:10000151-1760514300-1760516100@islandschoolbocagrande.com
SUMMARY:PTO Donuts with Dad
DESCRIPTION:Wednesday\, October 15th\, is our annual Donuts with Dad!\nPlease join us at the picnic tables beginning at 7:45 am\nand enjoy a donut and cup of coffee with your student.\nIt’s our way of saying THANK YOU for all you do! \n 
URL:https://islandschoolbocagrande.com/school-event/donuts-with-dad/
LOCATION:The Island School\, Boca Grande\, FL\, United States
CATEGORIES:PTO Events
END:VEVENT
END:VCALENDAR