BEGIN:VCALENDAR
VERSION:2.0
PRODID:-//The Island School - ECPv6.15.20//NONSGML v1.0//EN
CALSCALE:GREGORIAN
METHOD:PUBLISH
X-WR-CALNAME:The Island School
X-ORIGINAL-URL:https://islandschoolbocagrande.com
X-WR-CALDESC:Events for The Island School
REFRESH-INTERVAL;VALUE=DURATION:PT1H
X-Robots-Tag:noindex
X-PUBLISHED-TTL:PT1H
BEGIN:VTIMEZONE
TZID:UTC
BEGIN:STANDARD
TZOFFSETFROM:+0000
TZOFFSETTO:+0000
TZNAME:UTC
DTSTART:20220101T000000
END:STANDARD
END:VTIMEZONE
BEGIN:VEVENT
DTSTART;TZID=UTC:20260305T170000
DTEND;TZID=UTC:20260305T180000
DTSTAMP:20260419T234202
CREATED:20230829T190544Z
LAST-MODIFIED:20250708T155836Z
UID:10000182-1772730000-1772733600@islandschoolbocagrande.com
SUMMARY:PTO Family Bingo Night
DESCRIPTION:Come join us at the picnic tables for our Family Bingo Night! Lots of fun for the whole family. Pizza and refreshments will be provided by the TIS PTO.
URL:https://islandschoolbocagrande.com/school-event/bingo-night/
LOCATION:The Island School\, Boca Grande\, FL\, United States
CATEGORIES:PTO Events
END:VEVENT
BEGIN:VEVENT
DTSTART;TZID=UTC:20260217T151500
DTEND;TZID=UTC:20260217T154500
DTSTAMP:20260419T234202
CREATED:20211201T140603Z
LAST-MODIFIED:20250708T153023Z
UID:10000166-1771341300-1771343100@islandschoolbocagrande.com
SUMMARY:PTO Meeting
DESCRIPTION:Meetings are held at the school in Farish Hall beginning at 3:15 p.m. Free aftercare is provided for students whose parents attend the PTO meeting. All are welcome and encouraged to participate.
URL:https://islandschoolbocagrande.com/school-event/pto-meeting/
LOCATION:The Island School\, Boca Grande\, FL\, United States
CATEGORIES:PTO Events
END:VEVENT
BEGIN:VEVENT
DTSTART;TZID=UTC:20260116T180000
DTEND;TZID=UTC:20260116T210000
DTSTAMP:20260419T234202
CREATED:20171107T192556Z
LAST-MODIFIED:20250708T155427Z
UID:10000144-1768586400-1768597200@islandschoolbocagrande.com
SUMMARY:PTO Chowder Dinner Fundraiser
DESCRIPTION:Chowders from local restaurants! Silent Auction!\nCash only at the door.\n6:00 pm – 9:00 pm at the Gasparilla Inn Beach Club\, see you there! \nCall (941) 964-8016 for more information. \n \n 
URL:https://islandschoolbocagrande.com/school-event/chowder-dinner-3/
LOCATION:Gasparilla Inn Beach Club
CATEGORIES:Fundraisers,PTO Events
END:VEVENT
BEGIN:VEVENT
DTSTART;TZID=UTC:20251118T151500
DTEND;TZID=UTC:20251118T154500
DTSTAMP:20260419T234202
CREATED:20220314T143332Z
LAST-MODIFIED:20250708T151736Z
UID:10000170-1763478900-1763480700@islandschoolbocagrande.com
SUMMARY:PTO Meeting
DESCRIPTION:Meetings are held at the school in Farish Hall beginning at 3:15 p.m. Free aftercare is provided for students whose parents attend the PTO meeting. All are welcome and encouraged to participate.
URL:https://islandschoolbocagrande.com/school-event/pto-meeting-3/
LOCATION:The Island School\, Boca Grande\, FL\, United States
CATEGORIES:PTO Events
END:VEVENT
BEGIN:VEVENT
DTSTART;TZID=UTC:20251114T173000
DTEND;TZID=UTC:20251114T193000
DTSTAMP:20260419T234202
CREATED:20241029T143113Z
LAST-MODIFIED:20250708T155238Z
UID:10000187-1763141400-1763148600@islandschoolbocagrande.com
SUMMARY:PTO Family Movie Night
DESCRIPTION:Join us for TIS PTO Family Movie Night!  \nBring a blanket or chairs and join us for our annual Family Movie Night.\nTIS PTO will provide hot dogs\, popcorn\, and candy. More details to come!\nChildren must be supervised by an adult.
URL:https://islandschoolbocagrande.com/school-event/pto-family-movie-night/
LOCATION:The Island School\, Boca Grande\, FL\, United States
CATEGORIES:PTO Events
END:VEVENT
BEGIN:VEVENT
DTSTART;TZID=UTC:20251015T074500
DTEND;TZID=UTC:20251015T081500
DTSTAMP:20260419T234202
CREATED:20180822T163031Z
LAST-MODIFIED:20250708T160258Z
UID:10000151-1760514300-1760516100@islandschoolbocagrande.com
SUMMARY:PTO Donuts with Dad
DESCRIPTION:Wednesday\, October 15th\, is our annual Donuts with Dad!\nPlease join us at the picnic tables beginning at 7:45 am\nand enjoy a donut and cup of coffee with your student.\nIt’s our way of saying THANK YOU for all you do! \n 
URL:https://islandschoolbocagrande.com/school-event/donuts-with-dad/
LOCATION:The Island School\, Boca Grande\, FL\, United States
CATEGORIES:PTO Events
END:VEVENT
BEGIN:VEVENT
DTSTART;TZID=UTC:20251010T081500
DTEND;TZID=UTC:20251010T091500
DTSTAMP:20260419T234202
CREATED:20230829T185402Z
LAST-MODIFIED:20250708T154931Z
UID:10000180-1760084100-1760087700@islandschoolbocagrande.com
SUMMARY:PTO 3rd Annual Turtle Trot
DESCRIPTION:Students should wear their school spirit t-shirts and tennis shoes for this event. All donations will help to fund the amazing events the PTO organizes for our students throughout the year. More information will be coming home with students.
URL:https://islandschoolbocagrande.com/school-event/fun-run/
LOCATION:The Island School\, Boca Grande\, FL\, United States
CATEGORIES:Fundraisers,PTO Events
END:VEVENT
BEGIN:VEVENT
DTSTART;TZID=UTC:20250920T160000
DTEND;TZID=UTC:20250920T180000
DTSTAMP:20260419T234202
CREATED:20250815T111740Z
LAST-MODIFIED:20250815T111811Z
UID:10000195-1758384000-1758391200@islandschoolbocagrande.com
SUMMARY:PTO Cosmic Bowling Event
DESCRIPTION:Join us for TIS PTO Cosmic Bowling!  \nEnjoy fun for the whole family at Treasure Lanes in Port Charlotte (1059 Tamiami Trail).\nChildren must be supervised by an adult.
URL:https://islandschoolbocagrande.com/school-event/pto-cosmic-bowling-event/
CATEGORIES:PTO Events
END:VEVENT
BEGIN:VEVENT
DTSTART;TZID=UTC:20250916T151500
DTEND;TZID=UTC:20250916T154500
DTSTAMP:20260419T234202
CREATED:20220314T143019Z
LAST-MODIFIED:20250708T151617Z
UID:10000169-1758035700-1758037500@islandschoolbocagrande.com
SUMMARY:PTO Meeting
DESCRIPTION:Meetings are at the school in Farish Hall beginning at 3:15 p.m. Free aftercare is provided for students whose parents attend the PTO meeting. All are welcome and encouraged to participate.
URL:https://islandschoolbocagrande.com/school-event/pto-meeting-2/
LOCATION:The Island School\, Boca Grande\, FL\, United States
CATEGORIES:PTO Events
END:VEVENT
BEGIN:VEVENT
DTSTART;TZID=UTC:20250811T080000
DTEND;TZID=UTC:20250811T090000
DTSTAMP:20260419T234202
CREATED:20250625T143824Z
LAST-MODIFIED:20250708T151418Z
UID:10000188-1754899200-1754902800@islandschoolbocagrande.com
SUMMARY:PTO BooHoo YaHoo Breakfast
DESCRIPTION:Whatever your mood\, come and join us at the picnic tables to celebrate the first day of school! Enjoy light refreshments\, coffee\, and camaraderie.
URL:https://islandschoolbocagrande.com/school-event/pto-boohoo-yahoo-breakfast/
LOCATION:The Island School\, Boca Grande\, FL\, United States
CATEGORIES:PTO Events
END:VEVENT
BEGIN:VEVENT
DTSTART;TZID=UTC:20250415T151500
DTEND;TZID=UTC:20250415T161500
DTSTAMP:20260419T234202
CREATED:20230829T164036Z
LAST-MODIFIED:20240805T180414Z
UID:10000099-1744730100-1744733700@islandschoolbocagrande.com
SUMMARY:PTO Meeting
DESCRIPTION:Meetings are held at the school in Farish Hall beginning at 3:15 p.m. Free aftercare is provided for students whose parents attend the PTO meeting. All are welcome and encouraged to participate.
URL:https://islandschoolbocagrande.com/school-event/pto-meeting-4/
LOCATION:The Island School\, Boca Grande\, FL\, United States
CATEGORIES:PTO Events
END:VEVENT
BEGIN:VEVENT
DTSTART;TZID=UTC:20240309T103000
DTEND;TZID=UTC:20240309T120000
DTSTAMP:20260419T234202
CREATED:20230829T165320Z
LAST-MODIFIED:20231011T175201Z
UID:10000100-1709980200-1709985600@islandschoolbocagrande.com
SUMMARY:Boca Grande Woman's Club Bike Parade & Fair
DESCRIPTION:The PTO would like to encourage all families to participate in this fun community event. We will decorate a golf cart(s) according to the parade theme and walk in the bike path parade. Participants walking in the parade are encouraged to dress up according to the theme. The parade starts at 10:30 a.m. Awards are given (by the BG Woman’s Club) in multiple categories. The annual BG Woman’s Club Fair is directly following the parade. Stay tuned for more information.
URL:https://islandschoolbocagrande.com/school-event/boca-grande-womans-club-bike-parade-fair/
LOCATION:Boca Grande Community Center
CATEGORIES:Community Events,PTO Events
END:VEVENT
BEGIN:VEVENT
DTSTART;TZID=UTC:20240306T150000
DTEND;TZID=UTC:20240306T160000
DTSTAMP:20260419T234202
CREATED:20230913T152344Z
LAST-MODIFIED:20230913T152344Z
UID:10000118-1709737200-1709740800@islandschoolbocagrande.com
SUMMARY:Dribbling Team (Grades 3rd - 5th)
DESCRIPTION:PTO Dribbling Team for grades 3rd – 5th only\, beginning at 3:00 pm on the green court.
URL:https://islandschoolbocagrande.com/school-event/dribbling-team-grades-3rd-5th/2024-03-06/
LOCATION:Boca Grande Community Center – Basketball Court
CATEGORIES:PTO Events
END:VEVENT
BEGIN:VEVENT
DTSTART;TZID=UTC:20240228T150000
DTEND;TZID=UTC:20240228T160000
DTSTAMP:20260419T234202
CREATED:20230913T152344Z
LAST-MODIFIED:20230913T152344Z
UID:10000117-1709132400-1709136000@islandschoolbocagrande.com
SUMMARY:Dribbling Team (Grades 3rd - 5th)
DESCRIPTION:PTO Dribbling Team for grades 3rd – 5th only\, beginning at 3:00 pm on the green court.
URL:https://islandschoolbocagrande.com/school-event/dribbling-team-grades-3rd-5th/2024-02-28/
LOCATION:Boca Grande Community Center – Basketball Court
CATEGORIES:PTO Events
END:VEVENT
BEGIN:VEVENT
DTSTART;TZID=UTC:20240221T150000
DTEND;TZID=UTC:20240221T160000
DTSTAMP:20260419T234202
CREATED:20230913T152344Z
LAST-MODIFIED:20230913T152344Z
UID:10000116-1708527600-1708531200@islandschoolbocagrande.com
SUMMARY:Dribbling Team (Grades 3rd - 5th)
DESCRIPTION:PTO Dribbling Team for grades 3rd – 5th only\, beginning at 3:00 pm on the green court.
URL:https://islandschoolbocagrande.com/school-event/dribbling-team-grades-3rd-5th/2024-02-21/
LOCATION:Boca Grande Community Center – Basketball Court
CATEGORIES:PTO Events
END:VEVENT
BEGIN:VEVENT
DTSTART;TZID=UTC:20240214T150000
DTEND;TZID=UTC:20240214T160000
DTSTAMP:20260419T234202
CREATED:20230913T152344Z
LAST-MODIFIED:20230913T152344Z
UID:10000115-1707922800-1707926400@islandschoolbocagrande.com
SUMMARY:Dribbling Team (Grades 3rd - 5th)
DESCRIPTION:PTO Dribbling Team for grades 3rd – 5th only\, beginning at 3:00 pm on the green court.
URL:https://islandschoolbocagrande.com/school-event/dribbling-team-grades-3rd-5th/2024-02-14/
LOCATION:Boca Grande Community Center – Basketball Court
CATEGORIES:PTO Events
END:VEVENT
BEGIN:VEVENT
DTSTART;TZID=UTC:20240207T150000
DTEND;TZID=UTC:20240207T160000
DTSTAMP:20260419T234202
CREATED:20230913T152344Z
LAST-MODIFIED:20230913T152344Z
UID:10000114-1707318000-1707321600@islandschoolbocagrande.com
SUMMARY:Dribbling Team (Grades 3rd - 5th)
DESCRIPTION:PTO Dribbling Team for grades 3rd – 5th only\, beginning at 3:00 pm on the green court.
URL:https://islandschoolbocagrande.com/school-event/dribbling-team-grades-3rd-5th/2024-02-07/
LOCATION:Boca Grande Community Center – Basketball Court
CATEGORIES:PTO Events
END:VEVENT
BEGIN:VEVENT
DTSTART;TZID=UTC:20240131T150000
DTEND;TZID=UTC:20240131T160000
DTSTAMP:20260419T234202
CREATED:20230913T152344Z
LAST-MODIFIED:20230913T152344Z
UID:10000113-1706713200-1706716800@islandschoolbocagrande.com
SUMMARY:Dribbling Team (Grades 3rd - 5th)
DESCRIPTION:PTO Dribbling Team for grades 3rd – 5th only\, beginning at 3:00 pm on the green court.
URL:https://islandschoolbocagrande.com/school-event/dribbling-team-grades-3rd-5th/2024-01-31/
LOCATION:Boca Grande Community Center – Basketball Court
CATEGORIES:PTO Events
END:VEVENT
BEGIN:VEVENT
DTSTART;TZID=UTC:20240124T150000
DTEND;TZID=UTC:20240124T160000
DTSTAMP:20260419T234202
CREATED:20230913T152344Z
LAST-MODIFIED:20230913T152344Z
UID:10000112-1706108400-1706112000@islandschoolbocagrande.com
SUMMARY:Dribbling Team (Grades 3rd - 5th)
DESCRIPTION:PTO Dribbling Team for grades 3rd – 5th only\, beginning at 3:00 pm on the green court.
URL:https://islandschoolbocagrande.com/school-event/dribbling-team-grades-3rd-5th/2024-01-24/
LOCATION:Boca Grande Community Center – Basketball Court
CATEGORIES:PTO Events
END:VEVENT
BEGIN:VEVENT
DTSTART;TZID=UTC:20240117T150000
DTEND;TZID=UTC:20240117T160000
DTSTAMP:20260419T234202
CREATED:20230913T152344Z
LAST-MODIFIED:20230913T152344Z
UID:10000111-1705503600-1705507200@islandschoolbocagrande.com
SUMMARY:Dribbling Team (Grades 3rd - 5th)
DESCRIPTION:PTO Dribbling Team for grades 3rd – 5th only\, beginning at 3:00 pm on the green court.
URL:https://islandschoolbocagrande.com/school-event/dribbling-team-grades-3rd-5th/2024-01-17/
LOCATION:Boca Grande Community Center – Basketball Court
CATEGORIES:PTO Events
END:VEVENT
BEGIN:VEVENT
DTSTART;TZID=UTC:20240110T150000
DTEND;TZID=UTC:20240110T160000
DTSTAMP:20260419T234202
CREATED:20230913T152344Z
LAST-MODIFIED:20230913T152344Z
UID:10000110-1704898800-1704902400@islandschoolbocagrande.com
SUMMARY:Dribbling Team (Grades 3rd - 5th)
DESCRIPTION:PTO Dribbling Team for grades 3rd – 5th only\, beginning at 3:00 pm on the green court.
URL:https://islandschoolbocagrande.com/school-event/dribbling-team-grades-3rd-5th/2024-01-10/
LOCATION:Boca Grande Community Center – Basketball Court
CATEGORIES:PTO Events
END:VEVENT
BEGIN:VEVENT
DTSTART;TZID=UTC:20231125T100000
DTEND;TZID=UTC:20231125T170000
DTSTAMP:20260419T234202
CREATED:20230829T185928Z
LAST-MODIFIED:20230829T190129Z
UID:10000181-1700906400-1700931600@islandschoolbocagrande.com
SUMMARY:Christmas Walk
DESCRIPTION:Join our PTO and families during the annual Christmas Walk to help showcase our students and their awesome accomplishments. More details to come.
URL:https://islandschoolbocagrande.com/school-event/christmas-walk/
LOCATION:Downtown Boca Grande
CATEGORIES:PTO Events
END:VEVENT
BEGIN:VEVENT
DTSTART;TZID=UTC:20231012T150000
DTEND;TZID=UTC:20231012T160000
DTSTAMP:20260419T234202
CREATED:20230913T150803Z
LAST-MODIFIED:20230913T151441Z
UID:10000184-1697122800-1697126400@islandschoolbocagrande.com
SUMMARY:Craft Club (grades 3 - 5)
DESCRIPTION:Come join the PTO for a fun hour of crafting beginning at 3:00 pm (grades 3rd – 5th only).
URL:https://islandschoolbocagrande.com/school-event/craft-club-grades-3-5/2023-10-12/
LOCATION:Boca Grande Woman’s Club Room
CATEGORIES:PTO Events
END:VEVENT
BEGIN:VEVENT
DTSTART;TZID=UTC:20231005T150000
DTEND;TZID=UTC:20231005T160000
DTSTAMP:20260419T234202
CREATED:20230913T150803Z
LAST-MODIFIED:20230913T151441Z
UID:10000183-1696518000-1696521600@islandschoolbocagrande.com
SUMMARY:Craft Club (grades 3 - 5)
DESCRIPTION:Come join the PTO for a fun hour of crafting beginning at 3:00 pm (grades 3rd – 5th only).
URL:https://islandschoolbocagrande.com/school-event/craft-club-grades-3-5/2023-10-05/
LOCATION:Boca Grande Woman’s Club Room
CATEGORIES:PTO Events
END:VEVENT
END:VCALENDAR